BEGIN:VCALENDAR
VERSION:2.0
PRODID:-//Squarespace Inc/Squarespace 6//v6//EN
BEGIN:VEVENT
UID:5dd71da5e8d3bc5dd454d5bb@squarespace.com
DTSTAMP:20191121T233109Z
DTSTART:20191213T160000Z
DTEND:20191213T170000Z
SUMMARY:MSVA Board Meeting 
GEO:34.329936;-89.519458
LOCATION:State Veterans Home\, 120 Veterans Drive\, Oxford\, MS\, 38655\, U
 nited States
END:VEVENT
END:VCALENDAR
