BEGIN:VCALENDAR
VERSION:2.0
PRODID:-//Squarespace Inc/Squarespace 6//v6//EN
BEGIN:VEVENT
UID:5dd71e4633d70f3babe4c2b4@squarespace.com
DTSTAMP:20191121T233238Z
DTSTART:20191216T160000Z
DTEND:20191216T180000Z
SUMMARY:MSVA Informational Table 
GEO:30.397304;-88.885803
LOCATION:Biloxi Veteran Center
END:VEVENT
END:VCALENDAR
