BEGIN:VCALENDAR
VERSION:2.0
PRODID:-//Squarespace Inc/Squarespace 6//v6//EN
BEGIN:VEVENT
UID:5d0bb56636a218000149a2d8@squarespace.com
DTSTAMP:20190620T192044Z
DTSTART:20190622T120000Z
DTEND:20190622T210000Z
SUMMARY:155th Brigade (Post) Yellow Ribbon - All Deployment Phases
GEO:34.364732;-89.538443
LOCATION:University of Mississippi The Inn\, Oxford\, MS
END:VEVENT
END:VCALENDAR
