BEGIN:VCALENDAR
VERSION:2.0
PRODID:-//Squarespace Inc/Squarespace 6//v6//EN
BEGIN:VEVENT
UID:5d14e7fe2be57e000106ac4d@squarespace.com
DTSTAMP:20190627T160336Z
DTSTART:20190810T120000Z
DTEND:20190811T210000Z
SUMMARY:155th Brigade (Post) Yellow Ribbon - All Deployment Phases
GEO:32.297325;-90.187697
LOCATION:Jackson Convention Center\, 105 East Pascagoula Street\, Jackson\, 
 MS\, 39201\, United States
END:VEVENT
END:VCALENDAR
