BEGIN:VCALENDAR
VERSION:2.0
PRODID:-//Squarespace Inc/Squarespace 6//v6//EN
BEGIN:VEVENT
UID:5d51b7adab9318000176c61a@squarespace.com
DTSTAMP:20190812T190434Z
DTSTART:20190814T190000Z
DTEND:20190814T210000Z
SUMMARY:Re-Entry Service Fair
GEO:32.382959;-88.695032
LOCATION:Velma Young Community Center\, 2400 16th Avenue\, Meridian\, MS\, 
 39301\, United States
END:VEVENT
END:VCALENDAR
