BEGIN:VCALENDAR
VERSION:2.0
PRODID:-//Squarespace Inc/Squarespace 6//v6//EN
BEGIN:VEVENT
UID:5d14e8ece2804900012ec855@squarespace.com
DTSTAMP:20190627T160507Z
DTSTART:20190819T150000Z
DTEND:20190819T170000Z
SUMMARY:Veterans Center
GEO:40.720756;-74.000761
LOCATION:Biloxi\, MS
END:VEVENT
END:VCALENDAR
