BEGIN:VCALENDAR
VERSION:2.0
PRODID:-//Squarespace Inc/Squarespace 6//v6//EN
BEGIN:VEVENT
UID:5d51b8d25cbbe700016f4552@squarespace.com
DTSTAMP:20190812T191912Z
DTSTART:20190820T150000Z
DTEND:20190820T160000Z
SUMMARY:MS Gulf Coast Community College 
GEO:30.393492;-88.646445
LOCATION:Gautier Campus\, Gulfport\, MS
END:VEVENT
END:VCALENDAR
