BEGIN:VCALENDAR
VERSION:2.0
PRODID:-//Squarespace Inc/Squarespace 6//v6//EN
BEGIN:VEVENT
UID:5d14e93bb0226200019ba070@squarespace.com
DTSTAMP:20190627T160722Z
DTSTART:20190821T150000Z
DTEND:20190821T200000Z
SUMMARY:Veteran Benefit Information 
GEO:33.416513;-88.811168
LOCATION:The Claiborne At Adelaide\, 74 Claiborne Way\, Starkville\, MS\, 3
 9759\, United States
END:VEVENT
END:VCALENDAR
