BEGIN:VCALENDAR
VERSION:2.0
PRODID:-//Squarespace Inc/Squarespace 6//v6//EN
BEGIN:VEVENT
UID:5d51bbcbf0b3db00015a8b00@squarespace.com
DTSTAMP:20190812T192056Z
DTSTART:20190821T180000Z
DTEND:20190821T190000Z
SUMMARY:VSO Quarterly Meeting
GEO:40.720756;-74.000761
LOCATION:Jackson\, MS
END:VEVENT
END:VCALENDAR
