BEGIN:VCALENDAR
VERSION:2.0
PRODID:-//Squarespace Inc/Squarespace 6//v6//EN
BEGIN:VEVENT
UID:5d2f433ed0b2230001455e0d@squarespace.com
DTSTAMP:20190717T155106Z
DTSTART:20190823T140000Z
DTEND:20190823T150000Z
SUMMARY:Salvation Army Stand Down 
GEO:32.386362;-90.152287
LOCATION:Salvation Army\, 570 Beasley Rd.\, Jackson\, MS 39206\, United Sta
 tes
END:VEVENT
END:VCALENDAR
