BEGIN:VCALENDAR
VERSION:2.0
PRODID:-//Squarespace Inc/Squarespace 6//v6//EN
BEGIN:VEVENT
UID:5d14e9c2b0226200019bb910@squarespace.com
DTSTAMP:20190627T160945Z
DTSTART:20190824T120000Z
DTEND:20190825T210000Z
SUMMARY:155th Brigade (Post) Yellow Ribbon - All Deployment Phases
GEO:30.39343;-88.974515
LOCATION:Mississippi Gulf Coast Coliseum and Convention Center\, 2350 Beach 
 Boulevard\, Biloxi\, MS\, 39531\, United States
END:VEVENT
END:VCALENDAR
