BEGIN:VCALENDAR
VERSION:2.0
PRODID:-//Squarespace Inc/Squarespace 6//v6//EN
BEGIN:VEVENT
UID:5d51be133d118b0001c4f118@squarespace.com
DTSTAMP:20190812T193151Z
DTSTART:20190826T170000Z
DTEND:20190826T190000Z
SUMMARY:Mobile Vet Centers Veteran Outreach- Pearl River County 
GEO:30.517645;-89.68212
LOCATION:County Office of Emergency\, 810 hwy 11 south\, Poplarville\, MS
END:VEVENT
END:VCALENDAR
