BEGIN:VCALENDAR
VERSION:2.0
PRODID:-//Squarespace Inc/Squarespace 6//v6//EN
BEGIN:VEVENT
UID:5d51bc433cb631000155d138@squarespace.com
DTSTAMP:20190812T192451Z
DTSTART:20190826T140000Z
DTEND:20190826T170000Z
SUMMARY:Mobile Vet Centers Veterans Outreach- Pearl River County 
GEO:30.844354;-89.543041
LOCATION:101 US Hwy. 11 North\, Poplarville\, MS 39470
END:VEVENT
END:VCALENDAR
