BEGIN:VCALENDAR
VERSION:2.0
PRODID:-//Squarespace Inc/Squarespace 6//v6//EN
BEGIN:VEVENT
UID:5d14ea56a09c33000116b4db@squarespace.com
DTSTAMP:20190627T161212Z
DTSTART:20190826T140000Z
DTEND:20190826T190000Z
SUMMARY:MSVA Table Display 
GEO:33.495674;-88.427263
LOCATION:Columbus VA\, Columbus\, MS\, 39702\, United States
END:VEVENT
END:VCALENDAR
