BEGIN:VCALENDAR
VERSION:2.0
PRODID:-//Squarespace Inc/Squarespace 6//v6//EN
BEGIN:VEVENT
UID:5d51bd19d35e1e000120f241@squarespace.com
DTSTAMP:20190812T192916Z
DTSTART:20190827T150000Z
DTEND:20190827T190000Z
SUMMARY:Mobile Vet Centers Veterans Outreach- Forrest County
GEO:31.285558;-89.296666
LOCATION:PRCC Hattiesburg Campus\, 5448 US Hwy. 49 South\, Hattiesburg\, MS 
 39401
END:VEVENT
END:VCALENDAR
