BEGIN:VCALENDAR
VERSION:2.0
PRODID:-//Squarespace Inc/Squarespace 6//v6//EN
BEGIN:VEVENT
UID:5d51bfcd1e0320000184e223@squarespace.com
DTSTAMP:20190812T193953Z
DTSTART:20190828T150000Z
DTEND:20190828T190000Z
SUMMARY:Mobile Vet Centers Veterans Outreach - Hancock County
GEO:30.31016;-81.893896
LOCATION:Hwy 90\, Bay St. Louis\, MS 39401\, United States
END:VEVENT
END:VCALENDAR
