BEGIN:VCALENDAR
VERSION:2.0
PRODID:-//Squarespace Inc/Squarespace 6//v6//EN
BEGIN:VEVENT
UID:5d51c093ea08c90001f3f4a9@squarespace.com
DTSTAMP:20190812T194810Z
DTSTART:20190828T150000Z
DTEND:20190828T180000Z
SUMMARY:Pine Belt Combat Veterans Association 
GEO:31.333729;-89.29296
LOCATION:C.E. Roy Community Center\, 300 E. 5th Street\, Hattiesburg\, MS 3
 9401
END:VEVENT
END:VCALENDAR
