BEGIN:VCALENDAR
VERSION:2.0
PRODID:-//Squarespace Inc/Squarespace 6//v6//EN
BEGIN:VEVENT
UID:5d51c2975c76ee0001eab3e6@squarespace.com
DTSTAMP:20190812T195109Z
DTSTART:20190829T150000Z
DTEND:20190829T190000Z
SUMMARY:Mobile Vet Centers Veterans Outreach- Hancock County 
GEO:30.3541;-89.137489
LOCATION:USM - East Beach\, 730 East Beach Boulevard East\, Long Beach\, MS
 \, 39560\, United States
END:VEVENT
END:VCALENDAR
