BEGIN:VCALENDAR
VERSION:2.0
PRODID:-//Squarespace Inc/Squarespace 6//v6//EN
BEGIN:VEVENT
UID:5d14e7562be57e00010698c6@squarespace.com
DTSTAMP:20190627T155939Z
DTSTART:20190809T150000Z
DTEND:20190809T170000Z
SUMMARY:State Veterans Affairs Board Meeting 
GEO:32.321958;-90.244797
LOCATION:Jackson State Veterans Home jackson\, ms\, 4607 Lindbergh Drive\, 
 Jackson\, MS\, 39209\, United States
END:VEVENT
END:VCALENDAR
