BEGIN:VCALENDAR
VERSION:2.0
PRODID:-//Squarespace Inc/Squarespace 6//v6//EN
BEGIN:VEVENT
UID:5d52c7b9b4ebae0001172abe@squarespace.com
DTSTAMP:20190813T143209Z
DTSTART:20190903T133000Z
DTEND:20190903T193000Z
SUMMARY:MSVA Suicide Awareness Training 
GEO:33.698034;-89.712712
LOCATION:Camp McCain
END:VEVENT
END:VCALENDAR
