BEGIN:VCALENDAR
VERSION:2.0
PRODID:-//Squarespace Inc/Squarespace 6//v6//EN
BEGIN:VEVENT
UID:5d51c345c6b2d30001ff88d2@squarespace.com
DTSTAMP:20190812T205501Z
DTSTART:20190904T150000Z
DTEND:20190904T180000Z
SUMMARY:MSVA Table Display 
GEO:30.373782;-89.121119
LOCATION:Naval Construction Battalion Center\, Gulfport\, MS
END:VEVENT
END:VCALENDAR
