BEGIN:VCALENDAR
VERSION:2.0
PRODID:-//Squarespace Inc/Squarespace 6//v6//EN
BEGIN:VEVENT
UID:5d51c3d5aa90eb0001e8baa2@squarespace.com
DTSTAMP:20190812T195545Z
DTSTART:20190905T150000Z
DTEND:20190905T180000Z
SUMMARY:Mississippi Veterans Affairs Board Informational Table 
GEO:30.409416;-88.925266
LOCATION:Keesler Airforce Base\, Biloxi\, MS
END:VEVENT
END:VCALENDAR
