BEGIN:VCALENDAR
VERSION:2.0
PRODID:-//Squarespace Inc/Squarespace 6//v6//EN
BEGIN:VEVENT
UID:5dd80b1e7cf84455ba661f99@squarespace.com
DTSTAMP:20191122T162928Z
DTSTART:20200110T160000Z
DTEND:20200110T180000Z
SUMMARY:MSVA Board Meeting 
END:VEVENT
END:VCALENDAR
