BEGIN:VCALENDAR
VERSION:2.0
PRODID:-//Squarespace Inc/Squarespace 6//v6//EN
BEGIN:VEVENT
UID:5e16115d13b4c724d974ed18@squarespace.com
DTSTAMP:20200108T173455Z
DTSTART:20200111T130000Z
DTEND:20200112T230000Z
SUMMARY:Yellow Ribbon Event
GEO:34.310593;-88.788261
LOCATION:Beldon\, MS\, United States
END:VEVENT
END:VCALENDAR
