BEGIN:VCALENDAR
VERSION:2.0
PRODID:-//Squarespace Inc/Squarespace 6//v6//EN
BEGIN:VEVENT
UID:5e18ccda0e7fd63538ca6eed@squarespace.com
DTSTAMP:20200110T191519Z
DTSTART:20200115T160000Z
DTEND:20200116T200000Z
SUMMARY:Veteran's Golden Triangle Job Fair 
GEO:33.495674;-88.427263
LOCATION:Hampton Inn & Suites\, Columbus\, MS
END:VEVENT
END:VCALENDAR
