BEGIN:VCALENDAR
VERSION:2.0
PRODID:-//Squarespace Inc/Squarespace 6//v6//EN
BEGIN:VEVENT
UID:5dd808d12262cd0041d102ae@squarespace.com
DTSTAMP:20191122T161436Z
DTSTART:20200102T160000Z
DTEND:20200102T190000Z
SUMMARY:MSVA Informational Table
GEO:30.409416;-88.925266
LOCATION:Keesler Air Force Base
END:VEVENT
END:VCALENDAR
