BEGIN:VCALENDAR
VERSION:2.0
PRODID:-//Squarespace Inc/Squarespace 6//v6//EN
BEGIN:VEVENT
UID:5dd80cf47cf84455ba666ea8@squarespace.com
DTSTAMP:20191122T163115Z
DTSTART:20200120T160000Z
DTEND:20200120T180000Z
SUMMARY:MSVA Informational Table 
GEO:30.414446;-88.943896
LOCATION:VA Medical Center Biloxi
END:VEVENT
END:VCALENDAR
