BEGIN:VCALENDAR
VERSION:2.0
PRODID:-//Squarespace Inc/Squarespace 6//v6//EN
BEGIN:VEVENT
UID:5e3843a40c38b93e14741061@squarespace.com
DTSTAMP:20200203T160424Z
DTSTART:20200217T160000Z
DTEND:20200217T180000Z
SUMMARY:MSVA Information Table
GEO:30.396032;-88.885308
LOCATION:Veteran Center\, Biloxi\, MS
END:VEVENT
END:VCALENDAR
