BEGIN:VCALENDAR
VERSION:2.0
PRODID:-//Squarespace Inc/Squarespace 6//v6//EN
BEGIN:VEVENT
UID:5e161666d1c68f22b498fe22@squarespace.com
DTSTAMP:20200108T175317Z
DTSTART:20200224T140000Z
DTEND:20200224T200000Z
SUMMARY:MSVA Information Table
GEO:33.495674;-88.427263
LOCATION:Community Based Outpatient Clinic\, Columbus\, MS\, United States
END:VEVENT
END:VCALENDAR
