BEGIN:VCALENDAR
VERSION:2.0
PRODID:-//Squarespace Inc/Squarespace 6//v6//EN
BEGIN:VEVENT
UID:5e383be03e87613dac26074d@squarespace.com
DTSTAMP:20200203T155947Z
DTSTART:20200205T160000Z
DTEND:20200205T190000Z
SUMMARY:MSVA Information Table
GEO:30.409416;-88.925266
LOCATION:Keesler AFB\, Biloxi\, MS
END:VEVENT
END:VCALENDAR
