BEGIN:VCALENDAR
VERSION:2.0
PRODID:-//Squarespace Inc/Squarespace 6//v6//EN
BEGIN:VEVENT
UID:5e383ffcced5384d70f05c53@squarespace.com
DTSTAMP:20200203T160022Z
DTSTART:20200206T160000Z
DTEND:20200206T190000Z
SUMMARY:MSVA Information Table
GEO:30.373782;-89.121119
LOCATION:Naval Construction Battalion Center\, Gulfport\, MS
END:VEVENT
END:VCALENDAR
