BEGIN:VCALENDAR
VERSION:2.0
PRODID:-//Squarespace Inc/Squarespace 6//v6//EN
BEGIN:VEVENT
UID:5e5d3f90b44db211c1531e78@squarespace.com
DTSTAMP:20200302T172155Z
DTSTART:20200312T210000Z
DTEND:20200312T233000Z
SUMMARY:Networking &amp\; Job Fair 
GEO:30.350475;-89.152818
LOCATION:University of Southern Mississippi- Gulfport\, Long Beach MS
END:VEVENT
END:VCALENDAR
