BEGIN:VCALENDAR
VERSION:2.0
PRODID:-//Squarespace Inc/Squarespace 6//v6//EN
BEGIN:VEVENT
UID:5e3847e8b7f56d7d90f6ea69@squarespace.com
DTSTAMP:20200203T162021Z
DTSTART:20200316T150000Z
DTEND:20200316T180000Z
SUMMARY:MSVA Information Table
GEO:30.396032;-88.885308
LOCATION:Veteran Center\, Biloxi\, MS
END:VEVENT
END:VCALENDAR
