BEGIN:VCALENDAR
VERSION:2.0
PRODID:-//Squarespace Inc/Squarespace 6//v6//EN
BEGIN:VEVENT
UID:5e5d4f3c0c983a0aa8ec7154@squarespace.com
DTSTAMP:20200302T182947Z
DTSTART:20200317T150000Z
DTEND:20200317T160000Z
SUMMARY:MSVA Informational Table
GEO:32.36431;-88.703656
LOCATION:15th Ave. Baptist Church\, Meridian\, MS
END:VEVENT
END:VCALENDAR
