BEGIN:VCALENDAR
VERSION:2.0
PRODID:-//Squarespace Inc/Squarespace 6//v6//EN
BEGIN:VEVENT
UID:5e5d428f56b8a53380a6e876@squarespace.com
DTSTAMP:20200302T173211Z
DTSTART:20200324T170000Z
DTEND:20200324T181500Z
SUMMARY:Gulf Park AOP Workshop Series
GEO:30.350475;-89.152818
LOCATION:University of Southern Mississippi- Gulfport\, Long Beach\, MS
END:VEVENT
END:VCALENDAR
