BEGIN:VCALENDAR
VERSION:2.0
PRODID:-//Squarespace Inc/Squarespace 6//v6//EN
BEGIN:VEVENT
UID:5e5d50028b678d4251214c8a@squarespace.com
DTSTAMP:20200302T182922Z
DTSTART:20200325T150000Z
DTEND:20200325T190000Z
SUMMARY:MSVA Information Table
GEO:31.336618;-89.263567
LOCATION:Petal Civic Center\, Petal\, MS
END:VEVENT
END:VCALENDAR
