BEGIN:VCALENDAR
VERSION:2.0
PRODID:-//Squarespace Inc/Squarespace 6//v6//EN
BEGIN:VEVENT
UID:5e5d50a71768482dc4c5f095@squarespace.com
DTSTAMP:20200302T183324Z
DTSTART:20200328T140000Z
DTEND:20200328T210000Z
SUMMARY:MSVA Informational Table
GEO:32.36431;-88.703656
LOCATION:Chunky River Harley Davidson Dealership\, Meridian\, MS
END:VEVENT
END:VCALENDAR
