BEGIN:VCALENDAR
VERSION:2.0
PRODID:-//Squarespace Inc/Squarespace 6//v6//EN
BEGIN:VEVENT
UID:5e38485cfc490b221da6022a@squarespace.com
DTSTAMP:20200203T162323Z
DTSTART:20200328T120000Z
DTEND:20200328T220000Z
SUMMARY:Yellow Ribbon Pre-Deployment 1108th TASMG
GEO:30.36742;-89.092816
LOCATION:Courtyard Marriott\, Gulfport\, MS
END:VEVENT
END:VCALENDAR
