BEGIN:VCALENDAR
VERSION:2.0
PRODID:-//Squarespace Inc/Squarespace 6//v6//EN
BEGIN:VEVENT
UID:5e3845168f9eda1817017b48@squarespace.com
DTSTAMP:20200203T160851Z
DTSTART:20200304T160000Z
DTEND:20200304T190000Z
SUMMARY:MSVA Information Table
GEO:30.396032;-88.885308
LOCATION:Keesler AFB\, Biloxi\, MS
END:VEVENT
END:VCALENDAR
