BEGIN:VCALENDAR
VERSION:2.0
PRODID:-//Squarespace Inc/Squarespace 6//v6//EN
BEGIN:VEVENT
UID:5e5d3d055634e50ec00615f4@squarespace.com
DTSTAMP:20200302T172854Z
DTSTART:20200308T110000Z
DTEND:20200308T220000Z
SUMMARY:Yellow Ribbon Pre-Deployment 1108th TASMG
GEO:30.36742;-89.092816
LOCATION:Courtyard Marriott\, Gulport\, MS
END:VEVENT
END:VCALENDAR
