BEGIN:VCALENDAR
VERSION:2.0
PRODID:-//Squarespace Inc/Squarespace 6//v6//EN
BEGIN:VEVENT
UID:5e38490a7273ab09bb0632a8@squarespace.com
DTSTAMP:20200203T162527Z
DTSTART:20200401T150000Z
DTEND:20200401T180000Z
SUMMARY:MSVA Information Table
GEO:30.396032;-88.885308
LOCATION:Keesler AFB\, Biloxi\, MS
END:VEVENT
END:VCALENDAR
