BEGIN:VCALENDAR
VERSION:2.0
PRODID:-//Squarespace Inc/Squarespace 6//v6//EN
BEGIN:VEVENT
UID:5e38499913ad775386cfbba8@squarespace.com
DTSTAMP:20200203T162812Z
DTSTART:20200402T150000Z
DTEND:20200402T180000Z
SUMMARY:MSVA Information Table
GEO:30.373782;-89.121119
LOCATION:Naval Construction Battalion Center\, Gulfport\, MS
END:VEVENT
END:VCALENDAR
