BEGIN:VCALENDAR
VERSION:2.0
PRODID:-//Squarespace Inc/Squarespace 6//v6//EN
BEGIN:VEVENT
UID:5e16145cf78dcc2823a1ff19@squarespace.com
DTSTAMP:20200108T174514Z
DTSTART:20200402T140000Z
DTEND:20200402T180000Z
SUMMARY:MSVA Information Table
GEO:33.484843;-88.634492
LOCATION:East Mississippi Community College Job Fair\, Mayhew\, MS\, United 
 States
END:VEVENT
END:VCALENDAR
