BEGIN:VCALENDAR
VERSION:2.0
PRODID:-//Squarespace Inc/Squarespace 6//v6//EN
BEGIN:VEVENT
UID:5e384a2a13ad775386cfdb31@squarespace.com
DTSTAMP:20200203T162933Z
DTSTART:20200420T150000Z
DTEND:20200420T170000Z
SUMMARY:MSVA Information Table
GEO:37.689529;-97.33971
LOCATION:Veteran Center\, Biloxi\, MS
END:VEVENT
END:VCALENDAR
