BEGIN:VCALENDAR
VERSION:2.0
PRODID:-//Squarespace Inc/Squarespace 6//v6//EN
BEGIN:VEVENT
UID:5e5d457ea7ca871195c19c6a@squarespace.com
DTSTAMP:20200302T174409Z
DTSTART:20200506T150000Z
DTEND:20200506T180000Z
SUMMARY:MSVA Informational Table
GEO:30.409416;-88.925266
LOCATION:Keesler AFB\, Biloxi\, MS
END:VEVENT
END:VCALENDAR
